BEGIN:VCALENDAR
VERSION:2.0
PRODID:-//Bongulwazi Montessori School - ECPv6.15.13.1//NONSGML v1.0//EN
CALSCALE:GREGORIAN
METHOD:PUBLISH
X-WR-CALNAME:Bongulwazi Montessori School
X-ORIGINAL-URL:https://www.bongulwazimontessori.co.za
X-WR-CALDESC:Events for Bongulwazi Montessori School
REFRESH-INTERVAL;VALUE=DURATION:PT1H
X-Robots-Tag:noindex
X-PUBLISHED-TTL:PT1H
BEGIN:VTIMEZONE
TZID:UTC
BEGIN:STANDARD
TZOFFSETFROM:+0000
TZOFFSETTO:+0000
TZNAME:UTC
DTSTART:20170101T000000
END:STANDARD
END:VTIMEZONE
BEGIN:VEVENT
DTSTART;TZID=UTC:20190109T070000
DTEND;TZID=UTC:20190315T133000
DTSTAMP:20260419T143547
CREATED:20170208T124226Z
LAST-MODIFIED:20210209T061109Z
UID:203-1547017200-1552656600@www.bongulwazimontessori.co.za
SUMMARY:2021 Term 1
DESCRIPTION:Commencement of the first term for the 2021 calendar year. Parents encouraged to come early\, especially parents bringing new children to the school. Sometimes children struggle to let go on the first day and might need their parent to stick around for a while until they are comfortable with the environment and other children at the school.
URL:https://www.bongulwazimontessori.co.za/event/term1-2018/
LOCATION:Vision\, Mission and values
CATEGORIES:School
ATTACH;FMTTYPE=image/jpeg:https://www.bongulwazimontessori.co.za/wp-content/uploads/2017/02/event-04.jpg
END:VEVENT
BEGIN:VEVENT
DTSTART;TZID=UTC:20181212T090000
DTEND;TZID=UTC:20181212T130000
DTSTAMP:20260419T143547
CREATED:20181106T043407Z
LAST-MODIFIED:20181106T043407Z
UID:899-1544605200-1544619600@www.bongulwazimontessori.co.za
SUMMARY:Bongulwazi Open Day
DESCRIPTION:Bongulwazi Montessori School will host an open day for parents to come and see the school and understand the programmes offered and the opportunities they can open to their children. On the open day we take parents through the genesis\, culture and vision of the school in detail.
URL:https://www.bongulwazimontessori.co.za/event/bongulwazi-open-day-6/
LOCATION:Bongulwazi Montessori School\, 99 Hampton Road\, Glen Austin\, Midrand\, Gauteng\, 1685\, South Africa
CATEGORIES:School
ATTACH;FMTTYPE=image/jpeg:https://www.bongulwazimontessori.co.za/wp-content/uploads/2018/08/alphabet-blocks-blur-591652.jpg
ORGANIZER;CN="Bongulwazi":MAILTO:admin@bongulwazimontessori.co.za
END:VEVENT
BEGIN:VEVENT
DTSTART;TZID=UTC:20181205T090000
DTEND;TZID=UTC:20181205T130000
DTSTAMP:20260419T143547
CREATED:20181106T043112Z
LAST-MODIFIED:20181106T043243Z
UID:897-1544000400-1544014800@www.bongulwazimontessori.co.za
SUMMARY:Bongulwazi Open Day
DESCRIPTION:Bongulwazi Montessori School will host an open day for parents to come and see the school and understand the programmes offered and the opportunities they can open to their children. On the open day we take parents through the genesis\, culture and vision of the school in detail.
URL:https://www.bongulwazimontessori.co.za/event/bongulwazi-open-day-5/
LOCATION:Bongulwazi Montessori School\, 99 Hampton Road\, Glen Austin\, Midrand\, Gauteng\, 1685\, South Africa
CATEGORIES:School
ATTACH;FMTTYPE=image/png:https://www.bongulwazimontessori.co.za/wp-content/uploads/2018/10/Programmes_sensorial.png
ORGANIZER;CN="Bongulwazi":MAILTO:admin@bongulwazimontessori.co.za
END:VEVENT
BEGIN:VEVENT
DTSTART;TZID=UTC:20181107T090000
DTEND;TZID=UTC:20181107T133000
DTSTAMP:20260419T143547
CREATED:20181106T035358Z
LAST-MODIFIED:20181106T035358Z
UID:886-1541581200-1541597400@www.bongulwazimontessori.co.za
SUMMARY:Bongulwazi Open Day
DESCRIPTION:Bongulwazi Montessori School will host an open day for parents to come and see the school and understand the programmes offered and the opportunities they can open to their children. On the open day we take parents through the genesis\, culture and vision of the school in detail.
URL:https://www.bongulwazimontessori.co.za/event/bongulwazi-open-day/
LOCATION:Bongulwazi Montessori School\, 99 Hampton Road\, Glen Austin\, Midrand\, Gauteng\, 1685\, South Africa
CATEGORIES:School
ATTACH;FMTTYPE=image/jpeg:https://www.bongulwazimontessori.co.za/wp-content/uploads/2018/11/DSC_0137.jpg
ORGANIZER;CN="Bongulwazi":MAILTO:admin@bongulwazimontessori.co.za
END:VEVENT
BEGIN:VEVENT
DTSTART;TZID=UTC:20181027T130000
DTEND;TZID=UTC:20181027T170000
DTSTAMP:20260419T143547
CREATED:20170203T124108Z
LAST-MODIFIED:20181109T230500Z
UID:204-1540645200-1540659600@www.bongulwazimontessori.co.za
SUMMARY:Bongulwazi Fun Day
DESCRIPTION:Join us for a fun packed family day at Bongulwazi Montessori School. Parents are encourage to come and spend time with their children and participate in the activities of the day. There will be a number of activities on the day to encourage maximum participation from both child and parent. \nWe will also be hosting parents and children from Thembinkosi School.
URL:https://www.bongulwazimontessori.co.za/event/friendsoftheschool/
LOCATION:Bongulwazi Montessori School\, 99 Hampton Road\, Glen Austin\, Midrand\, Gauteng\, 1685\, South Africa
CATEGORIES:School
ATTACH;FMTTYPE=image/jpeg:https://www.bongulwazimontessori.co.za/wp-content/uploads/2017/02/event-03.jpg
ORGANIZER;CN="Bongulwazi":MAILTO:admin@bongulwazimontessori.co.za
END:VEVENT
END:VCALENDAR